BEGIN:VCALENDAR
VERSION:2.0
PRODID:DPCALENDAR
CALSCALE:GREGORIAN
BEGIN:VTIMEZONE
TZID:Europe/Vienna
BEGIN:STANDARD
DTSTART:20251026T010000
TZOFFSETFROM:+0200
TZOFFSETTO:+0100
TZNAME:CET
END:STANDARD
BEGIN:STANDARD
DTSTART:20261025T010000
TZOFFSETFROM:+0200
TZOFFSETTO:+0100
TZNAME:CET
END:STANDARD
BEGIN:DAYLIGHT
DTSTART:20260329T010000
TZOFFSETFROM:+0100
TZOFFSETTO:+0200
TZNAME:CEST
END:DAYLIGHT
END:VTIMEZONE
X-WR-TIMEZONE:Europe/Vienna
BEGIN:VEVENT
DTSTART;VALUE=DATE:20210522
DTEND;VALUE=DATE:20210523
UID:1F1C9356-15D3-4806-8F62-9B39F215B5A8
SUMMARY:U16 und U18 / Schwechat / 8. Erich Straganz Memorial
CREATED:20210101T101457Z
DTSTAMP:20210101T101457Z
URL:https://www.hsvbruck.at/hsv-kalender/franz-schuster-memorial-u16-u18
LAST-MODIFIED:20210429T210556Z
SEQUENCE:10234259
X-ACCESS:1
X-HITS:438
X-COLOR:9B6BE3
X-SHOW-END-TIME:1
END:VEVENT
BEGIN:VEVENT
DTSTART;TZID=Europe/Vienna:20230217T180000
DTEND;TZID=Europe/Vienna:20230217T210000
UID:CEB91EEA-A414-4814-AA60-BB534BE804D2
SUMMARY:HSV und USV Hauptversammlung
CREATED:20230116T180036Z
DTSTAMP:20230116T180036Z
URL:https://www.hsvbruck.at/hsv-kalender/hsv-und-usv-hauptversammlung
X-ACCESS:1
X-HITS:123
X-COLOR:9B6BE3
X-SHOW-END-TIME:1
END:VEVENT
END:VCALENDAR