BEGIN:VCALENDAR
VERSION:2.0
PRODID:DPCALENDAR
CALSCALE:GREGORIAN
BEGIN:VTIMEZONE
TZID:Europe/Vienna
BEGIN:STANDARD
DTSTART:20251026T010000
TZOFFSETFROM:+0200
TZOFFSETTO:+0100
TZNAME:CET
END:STANDARD
BEGIN:STANDARD
DTSTART:20261025T010000
TZOFFSETFROM:+0200
TZOFFSETTO:+0100
TZNAME:CET
END:STANDARD
BEGIN:DAYLIGHT
DTSTART:20260329T010000
TZOFFSETFROM:+0100
TZOFFSETTO:+0200
TZNAME:CEST
END:DAYLIGHT
END:VTIMEZONE
X-WR-TIMEZONE:Europe/Vienna
BEGIN:VEVENT
DTSTART;VALUE=DATE:20221119
DTEND;VALUE=DATE:20221120
UID:4206D35A-A6C3-4232-B1BB-8F9CD3E4AB40
SUMMARY:Indoor Kids Cup 1
CREATED:20220302T063918Z
DTSTAMP:20220302T063918Z
URL:https://www.hsvbruck.at/hsv-kalender/noelv-crosslauf-meisterschaften-2
DESCRIPTION:Pottenstein
X-ALT-DESC;FMTTYPE=text/html:<p>Pottenstein</p>
LAST-MODIFIED:20221010T144421Z
SEQUENCE:19209903
X-ACCESS:1
X-HITS:299
X-COLOR:05fc05
X-SHOW-END-TIME:1
END:VEVENT
BEGIN:VEVENT
DTSTART;VALUE=DATE:20221211
DTEND;VALUE=DATE:20221212
UID:25D2596A-AD84-46AA-8BC3-47C515AC034D
SUMMARY:Indoor Kids Cup 2
CREATED:20220928T145935Z
DTSTAMP:20220928T145935Z
URL:https://www.hsvbruck.at/hsv-kalender/indoor-kids-cup-2
DESCRIPTION:Bruck an der Leitha
X-ALT-DESC;FMTTYPE=text/html:<p>Bruck an der Leitha</p>
LAST-MODIFIED:20221010T144508Z
SEQUENCE:1035933
X-ACCESS:1
X-HITS:265
X-COLOR:05fc05
X-SHOW-END-TIME:1
END:VEVENT
BEGIN:VEVENT
DTSTART;VALUE=DATE:20230122
DTEND;VALUE=DATE:20230123
UID:D4A2B871-5FF0-419D-93C1-A9DDD93B68C1
SUMMARY:Indoor Kids Cup 3
CREATED:20220928T150013Z
DTSTAMP:20220928T150013Z
URL:https://www.hsvbruck.at/hsv-kalender/indoor-kids-cup-3
DESCRIPTION:Pottenstein
X-ALT-DESC;FMTTYPE=text/html:<p>Pottenstein</p>
LAST-MODIFIED:20221010T144549Z
SEQUENCE:1035936
X-ACCESS:1
X-HITS:390
X-COLOR:05fc05
X-SHOW-END-TIME:1
END:VEVENT
BEGIN:VEVENT
DTSTART;VALUE=DATE:20230225
DTEND;VALUE=DATE:20230226
UID:CA36051C-BB25-4D40-8988-B7D0FF6EBE36
SUMMARY:Indoor Kids Cup 4
CREATED:20220928T150135Z
DTSTAMP:20220928T150135Z
URL:https://www.hsvbruck.at/hsv-kalender/indoor-kids-cup-5
DESCRIPTION:Südstadt
X-ALT-DESC;FMTTYPE=text/html:<p>Südstadt</p>
LAST-MODIFIED:20221014T061630Z
SEQUENCE:1350895
X-ACCESS:1
X-HITS:464
X-COLOR:05fc05
X-SHOW-END-TIME:1
END:VEVENT
BEGIN:VEVENT
DTSTART;VALUE=DATE:20230304
DTEND;VALUE=DATE:20230305
UID:7DBE4787-7616-46EF-AC4D-4DBFB633FA1D
SUMMARY:Indoor Kids Cup 5
CREATED:20220928T150055Z
DTSTAMP:20220928T150055Z
URL:https://www.hsvbruck.at/hsv-kalender/indoor-kids-cup-4
DESCRIPTION:St. Pölten
X-ALT-DESC;FMTTYPE=text/html:<p>St. Pölten</p>
LAST-MODIFIED:20221014T061703Z
SEQUENCE:1350968
X-ACCESS:1
X-HITS:555
X-COLOR:05fc05
X-SHOW-END-TIME:1
END:VEVENT
BEGIN:VEVENT
DTSTART;TZID=Europe/Vienna:20241201T090000
DTEND;TZID=Europe/Vienna:20241201T130000
UID:7BBD6506-D220-43A5-BC61-52F0C6545924
SUMMARY:Indoor Kids Cup Bruck
CREATED:20241004T074613Z
DTSTAMP:20241004T074613Z
URL:https://www.hsvbruck.at/hsv-kalender/indoor-kids-cup-bruck
DESCRIPTION:AUSSCHREIBUNG
X-ALT-DESC;FMTTYPE=text/html:<p><a href="https://www.hsvbruck.at/images/Bilder_2024/Ausschreibung_Indoor_Kids_Cup_2024-25_241112_032549.pdf" target="_blank">AUSSCHREIBUNG</a></p>
LAST-MODIFIED:20241117T185004Z
SEQUENCE:3841431
X-ACCESS:1
X-HITS:433
X-COLOR:05fc05
X-SHOW-END-TIME:1
END:VEVENT
BEGIN:VEVENT
DTSTART;TZID=Europe/Vienna:20250111T130000
DTEND;TZID=Europe/Vienna:20250111T180000
UID:F54BAB31-C9C0-4B9A-9652-4DE80CC161A6
SUMMARY:Indoor Kids Cup Südstadt
CREATED:20241004T074613Z
DTSTAMP:20241004T074613Z
URL:https://www.hsvbruck.at/hsv-kalender/indoor-kids-cup-bruck-3
LAST-MODIFIED:20241229T145204Z
SEQUENCE:7455951
X-ACCESS:1
X-HITS:354
X-COLOR:05fc05
X-SHOW-END-TIME:1
END:VEVENT
BEGIN:VEVENT
DTSTART;TZID=Europe/Vienna:20250216T100000
DTEND;TZID=Europe/Vienna:20250216T140000
UID:381D6BEC-1B94-42A6-A9A1-128F87737628
SUMMARY:Indoor Kids Cup St. Pölten
CREATED:20250109T053240Z
DTSTAMP:20250109T053240Z
URL:https://www.hsvbruck.at/hsv-kalender/indoor-kids-cup-st-poelten
LAST-MODIFIED:20250109T053321Z
SEQUENCE:41
LOCATION:Dr. Adolf Schärf-Straße 25\, 3100 St. Pölten\, Niederösterreich\, Österreich
GEO:47.00000000;4.00000000
X-LOCATION-DISPLAYNAME:St. Pölten Leichtathletikhalle Outdoor
X-ACCESS:1
X-HITS:316
X-COLOR:05fc05
X-SHOW-END-TIME:1
END:VEVENT
BEGIN:VEVENT
DTSTART;TZID=Europe/Vienna:20250301T130000
DTEND;TZID=Europe/Vienna:20250301T170000
UID:441E3484-A96A-40C9-B67B-761FE4AD68E3
SUMMARY:Indoor Kids Cup Pottenstein
CREATED:20241106T152745Z
DTSTAMP:20241106T152745Z
URL:https://www.hsvbruck.at/hsv-kalender/indoor-kids-cup-pottenstein
LAST-MODIFIED:20250109T053352Z
SEQUENCE:5493967
LOCATION:Hainfelder Straße 24\, 2563 Pottenstein\, Niederösterreich
GEO:47.96112200;16.09429400
X-LOCATION-DISPLAYNAME:Pottenstein Halle
X-ACCESS:1
X-HITS:304
X-COLOR:05fc05
X-SHOW-END-TIME:1
END:VEVENT
BEGIN:VEVENT
DTSTART;TZID=Europe/Vienna:20250315T090000
DTEND;TZID=Europe/Vienna:20250315T130000
UID:F43240B7-EB94-4F78-8A75-48A9BC1C5A00
SUMMARY:Indoor Kids Cup Bruck
CREATED:20241004T074613Z
DTSTAMP:20241004T074613Z
URL:https://www.hsvbruck.at/hsv-kalender/indoor-kids-cup-bruck-2
LAST-MODIFIED:20241106T152559Z
SEQUENCE:2878786
X-ACCESS:1
X-HITS:685
X-COLOR:05fc05
X-SHOW-END-TIME:1
END:VEVENT
BEGIN:VEVENT
DTSTART;TZID=Europe/Vienna:20251214T080000
DTEND;TZID=Europe/Vienna:20251214T140000
UID:A2545555-C759-4547-A2D4-9FA2788AB82B
SUMMARY:Indoor Kids Cup Bruck
CREATED:20250701T063754Z
DTSTAMP:20250701T063754Z
URL:https://www.hsvbruck.at/hsv-kalender/indoor-kids-cup-bruck-4
LAST-MODIFIED:20250701T063823Z
SEQUENCE:29
X-ACCESS:1
X-HITS:337
X-COLOR:05fc05
X-SHOW-END-TIME:1
END:VEVENT
BEGIN:VEVENT
DTSTART;VALUE=DATE:20260117
DTEND;VALUE=DATE:20260118
UID:67E504F0-EEA4-4027-9ED4-94C2449A7C03
SUMMARY:Indoor Kids Cup Mödling
CREATED:20251215T051426Z
DTSTAMP:20251215T051426Z
URL:https://www.hsvbruck.at/hsv-kalender/indoor-kids-cup-moedling
DESCRIPTION:Anmeldung\N 
X-ALT-DESC;FMTTYPE=text/html:<p><a href="https://online-formular.at/Indoor-Kids-Cup-17.01.2026.php">Anmeldung</a></p><p> </p>
LAST-MODIFIED:20260106T142959Z
SEQUENCE:1934133
X-ACCESS:1
X-HITS:88
X-COLOR:05fc05
X-SHOW-END-TIME:1
END:VEVENT
BEGIN:VEVENT
DTSTART;VALUE=DATE:20260221
DTEND;VALUE=DATE:20260222
UID:E1B8F0C9-CA81-46CD-90F7-FC4A7181B697
SUMMARY:Indoor Kids Cup Pottenstein
CREATED:20251215T051344Z
DTSTAMP:20251215T051344Z
URL:https://www.hsvbruck.at/hsv-kalender/indoor-kids-cup-pottenstein-2
DESCRIPTION:Ausschreibung\NAnmeldung
X-ALT-DESC;FMTTYPE=text/html:<p><a href="https://oelv.athmin.at/api/file.aspx?id=112746">Ausschreibung</a></p><p><a href="https://online-formular.at/Indoor-Kids-Cup-21.02.2026.php">Anmeldung</a></p>
LAST-MODIFIED:20260130T060228Z
SEQUENCE:3977324
X-ACCESS:1
X-HITS:149
X-COLOR:05fc05
X-SHOW-END-TIME:1
END:VEVENT
BEGIN:VEVENT
DTSTART;VALUE=DATE:20260308
DTEND;VALUE=DATE:20260309
UID:B072E5C1-DDC0-4F6C-9EDD-F60CF16531AA
SUMMARY:Indoor Kids Cup St. Pölten
CREATED:20251215T051254Z
DTSTAMP:20251215T051254Z
URL:https://www.hsvbruck.at/hsv-kalender/indoor-kids-cup-st-poelten-2
DESCRIPTION:Anmeldung Indoor Kids Cup St. Pölten
X-ALT-DESC;FMTTYPE=text/html:<p><a href="https://online-formular.at/Indoor-Kids-Cup-08.03.2026_Ergebnis.php">Anmeldung Indoor Kids Cup St. Pölten</a></p>
LAST-MODIFIED:20260222T092836Z
SEQUENCE:5976942
X-ACCESS:1
X-HITS:176
X-COLOR:05fc05
X-SHOW-END-TIME:1
END:VEVENT
BEGIN:VEVENT
DTSTART;TZID=Europe/Vienna:20260314T090000
DTEND;TZID=Europe/Vienna:20260314T130000
UID:9B16F716-806F-4EF8-8515-D859B858E24A
SUMMARY:Indoor Kids Cup Bruck - FINALE
CREATED:20251215T051859Z
DTSTAMP:20251215T051859Z
URL:https://www.hsvbruck.at/hsv-kalender/indoor-kids-cup-bruck-finale
DESCRIPTION:Ausschreibung\NAnmeldung Indoor Kids Cup Bruck / Leitha
X-ALT-DESC;FMTTYPE=text/html:<p><a href="https://www.hsvbruck.at/images/2026/2025_NOELV-Indoor-Kids-Cup_Station5_Finale.pdf" target="_blank">Ausschreibung</a></p><p><a href="https://www.hsvbruck.at/anmeldeformular-indoor-kids-cup">Anmeldung Indoor Kids Cup Bruck / Leitha</a></p>
LAST-MODIFIED:20260222T093159Z
SEQUENCE:5976780
X-ACCESS:1
X-HITS:183
X-COLOR:05fc05
X-SHOW-END-TIME:1
END:VEVENT
END:VCALENDAR